BEGIN:VCALENDAR
VERSION:2.0
PRODID:icalendar-ruby
CALSCALE:GREGORIAN
METHOD:PUBLISH
BEGIN:VEVENT
DTSTAMP:20260420T024204Z
UID:6-442393@gardenofgrace.church
DTSTART:20261101T173000Z
DTEND:20261101T183000Z
CLASS:PUBLIC
CREATED:20260419T173737
DESCRIPTION:Sunday Service
LAST-MODIFIED:20260419T173737
LOCATION:Playa Hermosa\, Segundo Entrada\, In the Garden Across From Robert
 o's Restaurant
SUMMARY:Sunday Service
URL;VALUE=URI:https://gardenofgrace.church/events/sunday-service/2026-11-01
END:VEVENT
END:VCALENDAR
