BEGIN:VCALENDAR
VERSION:2.0
PRODID:icalendar-ruby
CALSCALE:GREGORIAN
METHOD:PUBLISH
BEGIN:VEVENT
DTSTAMP:20260420T012817Z
UID:6-442392@gardenofgrace.church
DTSTART:20261025T163000Z
DTEND:20261025T173000Z
CLASS:PUBLIC
CREATED:20260419T173737
DESCRIPTION:Sunday Service
LAST-MODIFIED:20260419T173737
LOCATION:Playa Hermosa\, Segundo Entrada\, In the Garden Across From Robert
 o's Restaurant
SUMMARY:Sunday Service
URL;VALUE=URI:https://gardenofgrace.church/events/sunday-service/2026-10-25
END:VEVENT
END:VCALENDAR
