BEGIN:VCALENDAR
VERSION:2.0
PRODID:icalendar-ruby
CALSCALE:GREGORIAN
METHOD:PUBLISH
BEGIN:VEVENT
DTSTAMP:20260419T211726Z
UID:6-442064@gardenofgrace.church
DTSTART:20261004T163000Z
DTEND:20261004T173000Z
CLASS:PUBLIC
CREATED:20260419T135544
DESCRIPTION:Sunday Service
LAST-MODIFIED:20260419T135544
LOCATION:Playa Hermosa\, Segundo Entrada\, In the Garden Across From Robert
 o's Restaurant
SUMMARY:Sunday Service
URL;VALUE=URI:https://gardenofgrace.church/events/sunday-service/2026-10-04
END:VEVENT
END:VCALENDAR
