BEGIN:VCALENDAR
VERSION:2.0
PRODID:icalendar-ruby
CALSCALE:GREGORIAN
METHOD:PUBLISH
BEGIN:VEVENT
DTSTAMP:20260419T173337Z
UID:6-441737@gardenofgrace.church
DTSTART:20260913T163000Z
DTEND:20260913T173000Z
CLASS:PUBLIC
CREATED:20260419T101326
DESCRIPTION:Sunday Service
LAST-MODIFIED:20260419T101326
LOCATION:Playa Hermosa\, Segundo Entrada\, In the Garden Across From Robert
 o's Restaurant
SUMMARY:Sunday Service
URL;VALUE=URI:https://gardenofgrace.church/events/sunday-service/2026-09-13
END:VEVENT
END:VCALENDAR
