BEGIN:VCALENDAR
VERSION:2.0
PRODID:icalendar-ruby
CALSCALE:GREGORIAN
METHOD:PUBLISH
BEGIN:VEVENT
DTSTAMP:20260419T125233Z
UID:6-441088@gardenofgrace.church
DTSTART:20260823T163000Z
DTEND:20260823T173000Z
CLASS:PUBLIC
CREATED:20260419T010710
DESCRIPTION:Sunday Service
LAST-MODIFIED:20260419T010710
LOCATION:Playa Hermosa\, Segundo Entrada\, In the Garden Across From Robert
 o's Restaurant
SUMMARY:Sunday Service
URL;VALUE=URI:https://gardenofgrace.church/events/sunday-service/2026-08-23
END:VEVENT
END:VCALENDAR
